BEGIN:VCALENDAR
PRODID:-//Pixl8//Eventfolio//EN
VERSION:2.0
X-WR-TIMEZONE:America/Chicago
CALSCALE:GREGORIAN
METHOD:PUBLISH
CLASS:PUBLIC
BEGIN:VTIMEZONE
TZID:America/Chicago
LAST-MODIFIED:20260306T231828Z
TZURL:https://www.tzurl.org/zoneinfo-outlook/America/Chicago
X-LIC-LOCATION:America/Chicago
BEGIN:DAYLIGHT
TZNAME:CDT
TZOFFSETFROM:-0600
TZOFFSETTO:-0500
DTSTART:19700308T020000
RRULE:FREQ=YEARLY;BYMONTH=3;BYDAY=2SU
END:DAYLIGHT
BEGIN:STANDARD
TZNAME:CST
TZOFFSETFROM:-0500
TZOFFSETTO:-0600
DTSTART:19701101T020000
RRULE:FREQ=YEARLY;BYMONTH=11;BYDAY=1SU
END:STANDARD
END:VTIMEZONE
BEGIN:VEVENT
DTSTART;TZID=America/Chicago;VALUE=DATE:20260422
DTEND;TZID=America/Chicago;VALUE=DATE:20260423
DTSTAMP:20260421T070717Z
UID:{A5E43126-6FE7-4A62-91DC6F795EBCB86E}
LOCATION:
SUMMARY:ACS/AAST Health Policy Scholarship Application Deadline
DESCRIPTION:Are you ready to take your leadership in health policy to the next level? The American College of Surgeons (ACS) and the American Association for Surgery of Trauma (AAST) invite you to apply for a full scholarship to attend the transformative one-week Executive Leadership Health Policy Program at Brandeis University from June 1-6, 2026.\n
 \n
 Event details: https://www.aast.org/ems-event-calendar/acs-aast-health-policy-scholarship-application-deadline.html
PRIORITY:1
END:VEVENT
END:VCALENDAR