BEGIN:VCALENDAR
PRODID:-//Pixl8//Eventfolio//EN
VERSION:2.0
X-WR-TIMEZONE:America/Chicago
CALSCALE:GREGORIAN
METHOD:PUBLISH
CLASS:PUBLIC
BEGIN:VTIMEZONE
TZID:America/Chicago
LAST-MODIFIED:20260306T231828Z
TZURL:https://www.tzurl.org/zoneinfo-outlook/America/Chicago
X-LIC-LOCATION:America/Chicago
BEGIN:DAYLIGHT
TZNAME:CDT
TZOFFSETFROM:-0600
TZOFFSETTO:-0500
DTSTART:19700308T020000
RRULE:FREQ=YEARLY;BYMONTH=3;BYDAY=2SU
END:DAYLIGHT
BEGIN:STANDARD
TZNAME:CST
TZOFFSETFROM:-0500
TZOFFSETTO:-0600
DTSTART:19701101T020000
RRULE:FREQ=YEARLY;BYMONTH=11;BYDAY=1SU
END:STANDARD
END:VTIMEZONE
BEGIN:VEVENT
DTSTART;TZID=America/Chicago;VALUE=DATE:20250802
DTEND;TZID=America/Chicago;VALUE=DATE:20250828
DTSTAMP:20260423T074709Z
UID:{F85A8EA4-1283-4DDE-A3C73EE19C64A812}
LOCATION:Marriott Marquis Chicago\, 2121 S Prairie Ave\, Chicago\, IL 60616
SUMMARY:Appointment of new committee members
DESCRIPTION:Event description here\n
 \n
 Event details: https://www.aast.org/ems-event-calendar/appointment-of-new-committee-members.html
PRIORITY:1
END:VEVENT
END:VCALENDAR